BEGIN:VCALENDAR
VERSION:2.0
PRODID:-//The KSIMC of London - Hujjat, Stanmore - ECPv6.15.20//NONSGML v1.0//EN
CALSCALE:GREGORIAN
METHOD:PUBLISH
X-WR-CALNAME:The KSIMC of London - Hujjat, Stanmore
X-ORIGINAL-URL:https://hujjat.org
X-WR-CALDESC:Events for The KSIMC of London - Hujjat, Stanmore
REFRESH-INTERVAL;VALUE=DURATION:PT1H
X-Robots-Tag:noindex
X-PUBLISHED-TTL:PT1H
BEGIN:VTIMEZONE
TZID:Europe/London
BEGIN:DAYLIGHT
TZOFFSETFROM:+0000
TZOFFSETTO:+0100
TZNAME:BST
DTSTART:20240331T010000
END:DAYLIGHT
BEGIN:STANDARD
TZOFFSETFROM:+0100
TZOFFSETTO:+0000
TZNAME:GMT
DTSTART:20241027T010000
END:STANDARD
BEGIN:DAYLIGHT
TZOFFSETFROM:+0000
TZOFFSETTO:+0100
TZNAME:BST
DTSTART:20250330T010000
END:DAYLIGHT
BEGIN:STANDARD
TZOFFSETFROM:+0100
TZOFFSETTO:+0000
TZNAME:GMT
DTSTART:20251026T010000
END:STANDARD
BEGIN:DAYLIGHT
TZOFFSETFROM:+0000
TZOFFSETTO:+0100
TZNAME:BST
DTSTART:20260329T010000
END:DAYLIGHT
BEGIN:STANDARD
TZOFFSETFROM:+0100
TZOFFSETTO:+0000
TZNAME:GMT
DTSTART:20261025T010000
END:STANDARD
END:VTIMEZONE
BEGIN:VEVENT
DTSTART;TZID=Europe/London:20251017T125200
DTEND;TZID=Europe/London:20251017T140000
DTSTAMP:20260425T131742
CREATED:20250709T142400Z
LAST-MODIFIED:20251013T080743Z
UID:117914-1760705520-1760709600@hujjat.org
SUMMARY:JUMMA KHUTBA
DESCRIPTION:12:52 Jumma Khutba – Shaykh Anwar Jaffer\nHoly Quran: Qasim Kareemi\nAzan: Hussein Agha\nDua Wahda: Shabbir Merali\nAsr Dua: Sajjad Tejani\nZiyarat: Makbul Rahim
URL:https://hujjat.org/event/jumma-khutba-92/
CATEGORIES:Juma
END:VEVENT
BEGIN:VEVENT
DTSTART;TZID=Europe/London:20251016T193000
DTEND;TZID=Europe/London:20251016T213000
DTSTAMP:20260425T131742
CREATED:20250709T142237Z
LAST-MODIFIED:20251016T135803Z
UID:117912-1760643000-1760650200@hujjat.org
SUMMARY:JUMME RAAT
DESCRIPTION:19:30 Jamaat Salaat\n20:00 Surah Yaseen – Ali Asaria\n20:10 Dua Kumayl – Ali Manji\n20:35 Announcements – Muhammadhussein Jagani\n20:40 Majlis – Shaykh Anwar Jaffer\n21:10 Ziyarat Waritha – Ali Bandali\n21:20 Tabarruk
URL:https://hujjat.org/event/jumme-raat-72/
CATEGORIES:Thursday Night
ATTACH;FMTTYPE=image/jpeg:https://hujjat.org/wp-content/uploads/2025/07/WhatsApp-Image-2025-10-02-at-11.24.48-1.jpeg
END:VEVENT
BEGIN:VEVENT
DTSTART;TZID=Europe/London:20251015T194500
DTEND;TZID=Europe/London:20251015T211500
DTSTAMP:20260425T131742
CREATED:20251013T214919Z
LAST-MODIFIED:20251013T215238Z
UID:120503-1760557500-1760562900@hujjat.org
SUMMARY:AHY Gents Book Club
DESCRIPTION:https://hujjat.org/product/ahy-gents-book-club/ \n📚 Join AHY for our new Gents Book Club! \nDive into Self Knowledge by Sheikh Dr Mohammad Ali Shomali – a powerful read on discovering yourself as the key to spiritual growth. \nGuided by Sheikh Anwar Jaffer\, expect thought-provoking discussion\, personal reflection\, and plenty of opportunities to share ideas in a warm\, welcoming space. \nA great way to learn\, connect\, and grow together 🤝 \n5 sessions to start from 15th Oct\, £20 for 5 sessions
URL:https://hujjat.org/event/ahy-gents-book-club/
LOCATION:Husaini Islamic Centre (Hujjat Imambargah)\, Stanmore\, Wood Lane\, Stanmore\, HA7 4LQ\, United Kingdom
CATEGORIES:Al Haadi Youth
ATTACH;FMTTYPE=image/jpeg:https://hujjat.org/wp-content/uploads/2025/10/WhatsApp-Image-2025-10-08-at-18.12.13.jpeg
END:VEVENT
BEGIN:VEVENT
DTSTART;TZID=Europe/London:20251015T100000
DTEND;TZID=Europe/London:20251015T130000
DTSTAMP:20260425T131742
CREATED:20251014T082140Z
LAST-MODIFIED:20251014T082140Z
UID:120511-1760522400-1760533200@hujjat.org
SUMMARY:Hujjat Senior Citizen
DESCRIPTION:
URL:https://hujjat.org/event/hujjat-senior-citizen-41/
LOCATION:Husaini Islamic Centre (Hujjat Imambargah)\, Stanmore\, Wood Lane\, Stanmore\, HA7 4LQ\, United Kingdom
ATTACH;FMTTYPE=image/jpeg:https://hujjat.org/wp-content/uploads/2025/10/WhatsApp-Image-2025-10-10-at-08.29.04_f944ecac.jpg
END:VEVENT
BEGIN:VEVENT
DTSTART;TZID=Europe/London:20251014T200000
DTEND;TZID=Europe/London:20251014T220000
DTSTAMP:20260425T131742
CREATED:20250930T123131Z
LAST-MODIFIED:20250930T123131Z
UID:120246-1760472000-1760479200@hujjat.org
SUMMARY:Divine Narratives
DESCRIPTION:For Ladies Only \nJoin us on Tuesdays (bi-monthly) at 8pm in Hujjat for an enlightening journey through the teachings and inspirations of the Holy Prophets. \n📖 Led by our Resident Aalim Shaykh Anwar Jaffer\, this unique interactive weekly tafsir class will provide a deep dive into the rich narratives of the Prophets\, unlocking their timeless lessons for us to apply in our daily lives. \n🕋 Don’t miss out on this opportunity to deepen your understanding and strengthen your connection with Allah (SWT). \nThe Tafseer series on the life of Prophet Yusuf (as) will commence tomorrow at 8:00pm. The sessions will explore the following topics: \n1. The Drama of Divine Favor: Sibling Rivalry and Jealousy in the Prophetic Household\n2. In the House of Aziz: The Seduction and the Sanctuary\n3. In Prison: Visions\, Dreams\, and Divine Destiny\n4. From Pit to Palace: The Spiritual Journey Through Hardship to Empowerment\n5. Leadership in Times of Crisis: Yusuf as Economic and Moral Guardian\n6. Redemption\, Reunion\, and Divine Justice: The Family of Yaqub Restored \nWe look forward to your participation and engaging discussions.
URL:https://hujjat.org/event/divine-narratives-2/
CATEGORIES:Ladies Only
ATTACH;FMTTYPE=image/jpeg:https://hujjat.org/wp-content/uploads/2025/09/WhatsApp-Image-2025-09-30-at-10.03.34.jpeg
END:VEVENT
BEGIN:VEVENT
DTSTART;TZID=Europe/London:20251013T190000
DTEND;TZID=Europe/London:20251013T200000
DTSTAMP:20260425T131742
CREATED:20251001T151248Z
LAST-MODIFIED:20251001T151248Z
UID:120280-1760382000-1760385600@hujjat.org
SUMMARY:Boys Recitation Class
DESCRIPTION:
URL:https://hujjat.org/event/boys-recitation-class/
CATEGORIES:Kids
ATTACH;FMTTYPE=image/jpeg:https://hujjat.org/wp-content/uploads/2025/10/IMG-20250929-WA0011.jpg
END:VEVENT
BEGIN:VEVENT
DTSTART;TZID=Europe/London:20251013T103000
DTEND;TZID=Europe/London:20251013T113000
DTSTAMP:20260425T131742
CREATED:20250901T104523Z
LAST-MODIFIED:20250901T104523Z
UID:119256-1760351400-1760355000@hujjat.org
SUMMARY:Tafsir with Aalima Aaliya Yusufali
DESCRIPTION:Qur’an Study Circle: Tafsir of Surah al-Hadid\nLadies-only weekly sessions for Ages 25–50 \nDarul Qur’an wal Itrah invites you to a mid-week session of reflection and connection with Allah’s divine words. \nJoin us for a 12 week tafsir course led by Aalima Aaliya Yusufali. The course will focus on the deep meanings and timeless wisdom found in Surah al-Hadid. \nThis course will refer to scholarly works including Tafsir al-Mizan\, Tafsir Namuneh\, Tafsir Tasnim\, and Tafsir Nur. \n🧕 For ladies aged 25–50\n👶 Child-friendly – mothers are welcome to bring their little ones\n📍 Location: Hujjat Stanmore\n🗓 Mondays 10.30-11.30am\n📆 September 15 – December 8 (excluding October 27)\n💷 Price: £30.00 \nRegister at https://forms.gle/hRLYeHsDEYeyHt6y5\nLink to pay: https://hujjat.org/donate/?form=FUNULRJXHGC\nDeadline to register: 10th September 2025
URL:https://hujjat.org/event/tafsir-with-aalima-aaliya-yusufali-6/
CATEGORIES:Tafsir
ATTACH;FMTTYPE=image/jpeg:https://hujjat.org/wp-content/uploads/2025/09/WhatsApp-Image-2025-09-01-at-11.24.27.jpeg
END:VEVENT
BEGIN:VEVENT
DTSTART;TZID=Europe/London:20251012T063000
DTEND;TZID=Europe/London:20251012T080000
DTSTAMP:20260425T131742
CREATED:20251002T102429Z
LAST-MODIFIED:20251002T102429Z
UID:120299-1760250600-1760256000@hujjat.org
SUMMARY:Fajr Salaah
DESCRIPTION:
URL:https://hujjat.org/event/fajr-salaah-45/
CATEGORIES:Fajr Programme
ATTACH;FMTTYPE=image/jpeg:https://hujjat.org/wp-content/uploads/2025/10/WhatsApp-Image-2025-10-02-at-11.12.19.jpeg
END:VEVENT
BEGIN:VEVENT
DTSTART;TZID=Europe/London:20251011T063000
DTEND;TZID=Europe/London:20251011T080000
DTSTAMP:20260425T131742
CREATED:20251002T101925Z
LAST-MODIFIED:20251002T101925Z
UID:120295-1760164200-1760169600@hujjat.org
SUMMARY:Fajr Salaah
DESCRIPTION:
URL:https://hujjat.org/event/fajr-salaah-44/
CATEGORIES:Fajr Programme
ATTACH;FMTTYPE=image/jpeg:https://hujjat.org/wp-content/uploads/2025/10/WhatsApp-Image-2025-10-02-at-11.11.34-1.jpeg
END:VEVENT
BEGIN:VEVENT
DTSTART;TZID=Europe/London:20251010T194500
DTEND;TZID=Europe/London:20251010T210000
DTSTAMP:20260425T131742
CREATED:20250908T142418Z
LAST-MODIFIED:20250908T142418Z
UID:119415-1760125500-1760130000@hujjat.org
SUMMARY:Hujjat Islamic studies (HIS)
DESCRIPTION:Hujjat Islamic studies (HIS) present “Moral Values” -5 Sessions on Morality & Faith\, Gratitude\, Arrogance\, Asceticism (Zuhd) and Self Control. With Shaykh Isa Jehangir. \nStart Date: Friday 19th September 2025 @7.45pm for 5 weeks. \nLimited Spaces available. \nRegister now:- Hujj.at/HIS
URL:https://hujjat.org/event/hujjat-islamic-studies-his-4/
CATEGORIES:Education
ATTACH;FMTTYPE=image/jpeg:https://hujjat.org/wp-content/uploads/2025/09/WhatsApp-Image-2025-09-08-at-15.59.09-1.jpeg
END:VEVENT
BEGIN:VEVENT
DTSTART;TZID=Europe/London:20251010T125400
DTEND;TZID=Europe/London:20251010T140000
DTSTAMP:20260425T131742
CREATED:20250709T142044Z
LAST-MODIFIED:20251002T083502Z
UID:117910-1760100840-1760104800@hujjat.org
SUMMARY:JUMMA KHUTBA
DESCRIPTION:12:54 Jumma Khutba – Dr Syeid Subhani\nHoly Quran: Salman Mukhtar\nAzan: Mumtaz Kassam\nDua wahda: Shabbir Merali\nAsr Dua: kazim Kassam\nZiyarat: Makbul Jaffer
URL:https://hujjat.org/event/jumma-khutba-91/
CATEGORIES:Juma
END:VEVENT
BEGIN:VEVENT
DTSTART;TZID=Europe/London:20251009T194500
DTEND;TZID=Europe/London:20251009T213000
DTSTAMP:20260425T131742
CREATED:20250709T141932Z
LAST-MODIFIED:20251009T114401Z
UID:117908-1760039100-1760045400@hujjat.org
SUMMARY:JUMME RAAT
DESCRIPTION:19:45 Fateha Khani – Marhum Shaykh Zaffar Abbas\n20:00 Surah Yaseen – Yasir Merali\n20:10 Dua Kumayl – Muntazir Ramji\n20:35 Announcements – Aadil Ali Hamir\n20:40 Majlis – Shaykh Anwar Jaffer\n21:10 Speech\n21:25 Ziyarat Waritha – Nadhirali Rajwani\n21:35 Tabarruk
URL:https://hujjat.org/event/jumme-raat-71/
CATEGORIES:Thursday Night
ATTACH;FMTTYPE=image/jpeg:https://hujjat.org/wp-content/uploads/2025/07/WhatsApp-Image-2025-10-02-at-11.24.48.jpeg
END:VEVENT
BEGIN:VEVENT
DTSTART;TZID=Europe/London:20251006T103000
DTEND;TZID=Europe/London:20251006T113000
DTSTAMP:20260425T131742
CREATED:20250901T104404Z
LAST-MODIFIED:20250901T104404Z
UID:119254-1759746600-1759750200@hujjat.org
SUMMARY:Tafsir with Aalima Aaliya Yusufali
DESCRIPTION:Qur’an Study Circle: Tafsir of Surah al-Hadid\nLadies-only weekly sessions for Ages 25–50 \nDarul Qur’an wal Itrah invites you to a mid-week session of reflection and connection with Allah’s divine words. \nJoin us for a 12 week tafsir course led by Aalima Aaliya Yusufali. The course will focus on the deep meanings and timeless wisdom found in Surah al-Hadid. \nThis course will refer to scholarly works including Tafsir al-Mizan\, Tafsir Namuneh\, Tafsir Tasnim\, and Tafsir Nur. \n🧕 For ladies aged 25–50\n👶 Child-friendly – mothers are welcome to bring their little ones\n📍 Location: Hujjat Stanmore\n🗓 Mondays 10.30-11.30am\n📆 September 15 – December 8 (excluding October 27)\n💷 Price: £30.00 \nRegister at https://forms.gle/hRLYeHsDEYeyHt6y5\nLink to pay: https://hujjat.org/donate/?form=FUNULRJXHGC\nDeadline to register: 10th September 2025
URL:https://hujjat.org/event/tafsir-with-aalima-aaliya-yusufali-5/
CATEGORIES:Tafsir
ATTACH;FMTTYPE=image/jpeg:https://hujjat.org/wp-content/uploads/2025/09/WhatsApp-Image-2025-09-01-at-11.24.27.jpeg
END:VEVENT
BEGIN:VEVENT
DTSTART;TZID=Europe/London:20251005T103000
DTEND;TZID=Europe/London:20251005T120000
DTSTAMP:20260425T131742
CREATED:20250924T093548Z
LAST-MODIFIED:20250924T093548Z
UID:120014-1759660200-1759665600@hujjat.org
SUMMARY:Dementia Cafe
DESCRIPTION:
URL:https://hujjat.org/event/dementia-cafe-13/
CATEGORIES:Education
ATTACH;FMTTYPE=image/jpeg:https://hujjat.org/wp-content/uploads/2025/09/WhatsApp-Image-2025-09-24-at-10.56.10.jpeg
END:VEVENT
BEGIN:VEVENT
DTSTART;TZID=Europe/London:20251004T063000
DTEND;TZID=Europe/London:20251004T080000
DTSTAMP:20260425T131742
CREATED:20250930T125828Z
LAST-MODIFIED:20250930T125828Z
UID:120260-1759559400-1759564800@hujjat.org
SUMMARY:Fajr Salaah
DESCRIPTION:
URL:https://hujjat.org/event/fajr-salaah-43/
CATEGORIES:Fajr Programme
ATTACH;FMTTYPE=image/jpeg:https://hujjat.org/wp-content/uploads/2025/09/WhatsApp-Image-2025-09-30-at-11.47.05.jpeg
END:VEVENT
BEGIN:VEVENT
DTSTART;TZID=Europe/London:20251003T200000
DTEND;TZID=Europe/London:20251003T213000
DTSTAMP:20260425T131742
CREATED:20250709T141713Z
LAST-MODIFIED:20251002T074947Z
UID:117906-1759521600-1759527000@hujjat.org
SUMMARY:Wiladat Eve Imam Hassan Askari (AS)
DESCRIPTION:20:00 Quran – Ali Reza Merchant\n20:05 Hadith Kisa – Muhammedali Khimji\n20:20 Majlis – Syed Ali Khalkhali\n20:50 Speech – Shabir Panju – Cancer awareness\n20:55 Qasida – Abbasali Bandali\n21:05 Announcements – Abbas Gulamali\n21:10 Qasida – Husayn Mawji\n21:20 Ziyarat – Ali Mawji\n21:25 Tabarruk
URL:https://hujjat.org/event/wiladat-eve-imam-hassan-askari-as/
CATEGORIES:Wiladat
ATTACH;FMTTYPE=image/jpeg:https://hujjat.org/wp-content/uploads/2025/07/WhatsApp-Image-2025-09-30-at-11.47.04-2.jpeg
END:VEVENT
BEGIN:VEVENT
DTSTART;TZID=Europe/London:20251003T200000
DTEND;TZID=Europe/London:20251003T210000
DTSTAMP:20260425T131742
CREATED:20250930T130019Z
LAST-MODIFIED:20250930T133847Z
UID:120263-1759521600-1759525200@hujjat.org
SUMMARY:Hujjat Boys Annexe
DESCRIPTION:Friday 3rd October 2025 – 8:00 PM \nCelebrating the Birth of Imam Hassan Askari (AS) \nPick up 9:00 PM Straight after 1st Qasida on Main Hall
URL:https://hujjat.org/event/hujjat-boys-annexe-126/
CATEGORIES:Annexe
ATTACH;FMTTYPE=image/jpeg:https://hujjat.org/wp-content/uploads/2025/09/WhatsApp-Image-2025-09-30-at-11.42.36.jpeg
END:VEVENT
BEGIN:VEVENT
DTSTART;TZID=Europe/London:20251003T125600
DTEND;TZID=Europe/London:20251003T140000
DTSTAMP:20260425T131742
CREATED:20250709T141536Z
LAST-MODIFIED:20251002T102147Z
UID:117904-1759496160-1759500000@hujjat.org
SUMMARY:JUMMA KHUTBA
DESCRIPTION:12:40 Holy Quran: Makbul Rahim\n12:56 Jumma Khutba – Shaykh Abbas Ismail\nAzan: Dr Ihsan Al Shamma\nDua Wahda: Shabbir Merali\nAsr Dua: Ali Hassan Jagani\nZiyarat: Sajjad Tharoo
URL:https://hujjat.org/event/jumma-khutba-90/
CATEGORIES:Juma
ATTACH;FMTTYPE=image/jpeg:https://hujjat.org/wp-content/uploads/2025/07/WhatsApp-Image-2025-10-02-at-11.11.34-2.jpeg
END:VEVENT
BEGIN:VEVENT
DTSTART;TZID=Europe/London:20251002T200000
DTEND;TZID=Europe/London:20251002T213000
DTSTAMP:20260425T131742
CREATED:20250709T141412Z
LAST-MODIFIED:20250930T151647Z
UID:117902-1759435200-1759440600@hujjat.org
SUMMARY:JUMME RAAT
DESCRIPTION:20:00 Surah Yaseen – Muhammad Mahdi Dewji\n20:10 Dua Kumayl – Aliakber Dewji\n20:35 Announcements – Kazim Ismail\n20:40 Majlis – Urdu – Syed Maulana Kalbe Abbas\n21:10 Ziyarat Waritha – Muntazir Kanji\n21:20 Tabarruk
URL:https://hujjat.org/event/jumme-raat-70/
CATEGORIES:Thursday Night
ATTACH;FMTTYPE=image/jpeg:https://hujjat.org/wp-content/uploads/2025/07/WhatsApp-Image-2025-09-30-at-11.47.04.jpeg
END:VEVENT
BEGIN:VEVENT
DTSTART;TZID=Europe/London:20251001T103000
DTEND;TZID=Europe/London:20251001T130000
DTSTAMP:20260425T131742
CREATED:20250929T121102Z
LAST-MODIFIED:20250929T121102Z
UID:120196-1759314600-1759323600@hujjat.org
SUMMARY:Hujjat Senior Citizen
DESCRIPTION:
URL:https://hujjat.org/event/hujjat-senior-citizen-40/
CATEGORIES:Seniors
ATTACH;FMTTYPE=image/jpeg:https://hujjat.org/wp-content/uploads/2025/09/WhatsApp-Image-2025-09-29-at-13.08.36.jpeg
END:VEVENT
BEGIN:VEVENT
DTSTART;TZID=Europe/London:20250930T200000
DTEND;TZID=Europe/London:20250930T220000
DTSTAMP:20260425T131742
CREATED:20250930T113314Z
LAST-MODIFIED:20250930T123136Z
UID:120243-1759262400-1759269600@hujjat.org
SUMMARY:Divine Narratives
DESCRIPTION:For Ladies Only \nJoin us on Tuesdays (bi-monthly) at 8pm in Hujjat for an enlightening journey through the teachings and inspirations of the Holy Prophets. \n📖 Led by our Resident Aalim Shaykh Anwar Jaffer\, this unique interactive weekly tafsir class will provide a deep dive into the rich narratives of the Prophets\, unlocking their timeless lessons for us to apply in our daily lives. \n🕋 Don’t miss out on this opportunity to deepen your understanding and strengthen your connection with Allah (SWT). \nThe Tafseer series on the life of Prophet Yusuf (as) will commence tomorrow at 8:00pm. The sessions will explore the following topics: \n1. The Drama of Divine Favor: Sibling Rivalry and Jealousy in the Prophetic Household\n2. In the House of Aziz: The Seduction and the Sanctuary\n3. In Prison: Visions\, Dreams\, and Divine Destiny\n4. From Pit to Palace: The Spiritual Journey Through Hardship to Empowerment\n5. Leadership in Times of Crisis: Yusuf as Economic and Moral Guardian\n6. Redemption\, Reunion\, and Divine Justice: The Family of Yaqub Restored \nWe look forward to your participation and engaging discussions.
URL:https://hujjat.org/event/divine-narratives/
CATEGORIES:Ladies Only
ATTACH;FMTTYPE=image/jpeg:https://hujjat.org/wp-content/uploads/2025/09/WhatsApp-Image-2025-09-30-at-10.03.34.jpeg
END:VEVENT
BEGIN:VEVENT
DTSTART;TZID=Europe/London:20250929T103000
DTEND;TZID=Europe/London:20250929T113000
DTSTAMP:20260425T131742
CREATED:20250901T103510Z
LAST-MODIFIED:20250901T103510Z
UID:119252-1759141800-1759145400@hujjat.org
SUMMARY:Tafsir with Aalima Aaliya Yusufali
DESCRIPTION:Qur’an Study Circle: Tafsir of Surah al-Hadid\nLadies-only weekly sessions for Ages 25–50 \nDarul Qur’an wal Itrah invites you to a mid-week session of reflection and connection with Allah’s divine words. \nJoin us for a 12 week tafsir course led by Aalima Aaliya Yusufali. The course will focus on the deep meanings and timeless wisdom found in Surah al-Hadid. \nThis course will refer to scholarly works including Tafsir al-Mizan\, Tafsir Namuneh\, Tafsir Tasnim\, and Tafsir Nur. \n🧕 For ladies aged 25–50\n👶 Child-friendly – mothers are welcome to bring their little ones\n📍 Location: Hujjat Stanmore\n🗓 Mondays 10.30-11.30am\n📆 September 15 – December 8 (excluding October 27)\n💷 Price: £30.00 \nRegister at https://forms.gle/hRLYeHsDEYeyHt6y5\nLink to pay: https://hujjat.org/donate/?form=FUNULRJXHGC\nDeadline to register: 10th September 2025 \nFor queries\, please email: darulquran@hujjat.org
URL:https://hujjat.org/event/tafsir-with-aalima-aaliya-yusufali-4/
CATEGORIES:Tafsir
ATTACH;FMTTYPE=image/jpeg:https://hujjat.org/wp-content/uploads/2025/09/WhatsApp-Image-2025-09-01-at-11.24.27.jpeg
END:VEVENT
BEGIN:VEVENT
DTSTART;TZID=Europe/London:20250928T100000
DTEND;TZID=Europe/London:20250928T170000
DTSTAMP:20260425T131742
CREATED:20250925T124816Z
LAST-MODIFIED:20250925T124816Z
UID:120101-1759053600-1759078800@hujjat.org
SUMMARY:University Fair
DESCRIPTION:Al Haadi Youth Presents our… \nUniversity Fair 🎓🏫 \nJoin us at Hujjat Stanmore for a day full of panels and stalls to gain more insight into which career path you want to take. \nFrom Oxbridge to Medicine and Business\, we have a wide range of experts from our very own community and beyond to support you with all the information you need including the application process and potential career prospects \n  \n🗓️ Date: Sunday 28th September\n📍Where: Hujjat Stanmore\n⏰Time 10am – 5pm\n£2 Entrance Fee per person \nSign up here: hujj.at/ahy
URL:https://hujjat.org/event/university-fair-2/
CATEGORIES:Al Haadi Youth
ATTACH;FMTTYPE=image/jpeg:https://hujjat.org/wp-content/uploads/2025/09/WhatsApp-Image-2025-09-25-at-12.20.19.jpeg
END:VEVENT
BEGIN:VEVENT
DTSTART;TZID=Europe/London:20250928T100000
DTEND;TZID=Europe/London:20250928T170000
DTSTAMP:20260425T131742
CREATED:20250924T122620Z
LAST-MODIFIED:20250924T122934Z
UID:120054-1759053600-1759078800@hujjat.org
SUMMARY:AHY University Fair 2025
DESCRIPTION:Join us at Hujjat Stanmore for a day full of panels and stalls to gain more insight into which career path you want to take. \nFrom Oxbridge to Medicine and Business\, we have a wide range of experts from our very own community and beyond to support you with all the information you need including the application process and potential career prospects \n🗓️ Date: Sunday 28th September\n📍Where: Hujjat Stanmore\n⏰Time 10am – 5pm\n£2 Entrance Fee per person \nSign Up: https://hujjat.org/product/ahy-university-fair-2025/
URL:https://hujjat.org/event/ahy-university-fair-2025/
LOCATION:Husaini Islamic Centre (Hujjat Imambargah)\, Stanmore\, Wood Lane\, Stanmore\, HA7 4LQ\, United Kingdom
CATEGORIES:Al Haadi Youth
END:VEVENT
BEGIN:VEVENT
DTSTART;TZID=Europe/London:20250928T060000
DTEND;TZID=Europe/London:20250928T080000
DTSTAMP:20260425T131742
CREATED:20250923T142950Z
LAST-MODIFIED:20250925T092808Z
UID:119996-1759039200-1759046400@hujjat.org
SUMMARY:Fajr Salaah
DESCRIPTION:
URL:https://hujjat.org/event/fajr-salaah-42/
CATEGORIES:Fajr Programme
ATTACH;FMTTYPE=image/jpeg:https://hujjat.org/wp-content/uploads/2025/09/WhatsApp-Image-2025-09-25-at-11.14.49.jpeg
END:VEVENT
BEGIN:VEVENT
DTSTART;TZID=Europe/London:20250927T140000
DTEND;TZID=Europe/London:20250927T160000
DTSTAMP:20260425T131742
CREATED:20250911T121324Z
LAST-MODIFIED:20250911T121324Z
UID:119532-1758981600-1758988800@hujjat.org
SUMMARY:PRE-LOVED POP-UP
DESCRIPTION:🌟 HUJJAT LADIES PRE-LOVED POP-UP 🌟\n🗓️ Saturday 27th September | 2:00 – 4:00 PM\n📍 Gents and Ladies Main Hall\, Hujjat Stanmore\n🎟️ FREE ENTRY \nLooking to clear out some clutter or discover hidden gems? Join us for a relaxed and eco-friendly afternoon at our indoor pre-loved pop-up\, hosted by the Hujjat Ladies Committee — open to families! \n🌱 Shop sustainably\n♻️ Declutter mindfully\n🛍️ Find treasures\, give items a second life \nWhether you’re selling or just browsing\, it’s a great way to care for the planet while connecting with your community — because recycling and reusing is part of our responsibility as Muslims. \nPlease note : This event is for individuals selling personal/pre-loved items — it is not intended for businesses or commercial stalls. \nCome along\, bring a friend\, and let’s give our stuff a second chance! \nPlease register your stall using the link below\nhttps://hujjat.org/product/pre-loved-popup/
URL:https://hujjat.org/event/pre-loved-pop-up/
CATEGORIES:Ladies committee
ATTACH;FMTTYPE=image/jpeg:https://hujjat.org/wp-content/uploads/2025/09/WhatsApp-Image-2025-09-11-at-14.02.43.jpeg
END:VEVENT
BEGIN:VEVENT
DTSTART;TZID=Europe/London:20250927T060000
DTEND;TZID=Europe/London:20250927T080000
DTSTAMP:20260425T131742
CREATED:20250923T142848Z
LAST-MODIFIED:20250925T092706Z
UID:119993-1758952800-1758960000@hujjat.org
SUMMARY:Fajr Salaah
DESCRIPTION:
URL:https://hujjat.org/event/fajr-salaah-41/
CATEGORIES:Fajr Programme
ATTACH;FMTTYPE=image/jpeg:https://hujjat.org/wp-content/uploads/2025/09/WhatsApp-Image-2025-09-25-at-11.14.49.jpeg
END:VEVENT
BEGIN:VEVENT
DTSTART;TZID=Europe/London:20250926T194500
DTEND;TZID=Europe/London:20250926T210000
DTSTAMP:20260425T131742
CREATED:20250908T142044Z
LAST-MODIFIED:20250908T142044Z
UID:119411-1758915900-1758920400@hujjat.org
SUMMARY:Hujjat Islamic studies (HIS)
DESCRIPTION:Hujjat Islamic studies (HIS) present “Moral Values” -5 Sessions on Morality & Faith\, Gratitude\, Arrogance\, Asceticism (Zuhd) and Self Control. With Shaykh Isa Jehangir. \nStart Date: Friday 19th September 2025 @7.45pm for 5 weeks. \nLimited Spaces available. \nRegister now:- Hujj.at/HIS
URL:https://hujjat.org/event/hujjat-islamic-studies-his-2/
CATEGORIES:Education
ATTACH;FMTTYPE=image/jpeg:https://hujjat.org/wp-content/uploads/2025/09/WhatsApp-Image-2025-09-08-at-15.59.09-1.jpeg
END:VEVENT
BEGIN:VEVENT
DTSTART;TZID=Europe/London:20250926T122500
DTEND;TZID=Europe/London:20250926T140000
DTSTAMP:20260425T131742
CREATED:20250709T141232Z
LAST-MODIFIED:20250924T095340Z
UID:117900-1758889500-1758895200@hujjat.org
SUMMARY:JUMMA KHUTBA
DESCRIPTION:12:25 Dua Nudbah – Qasim Kareemi\n12:58 Jumma Khutba – Shaykh Anwar Jaffer\nAzan: Hussein Agha\nDua Wahda: Shabbir Merali\nAsr Dua: Makbul Jaffer\nZiyarat: Muallim Murtaza Bandali
URL:https://hujjat.org/event/jumma-khutba-89/
CATEGORIES:Juma
ATTACH;FMTTYPE=image/jpeg:https://hujjat.org/wp-content/uploads/2025/07/WhatsApp-Image-2025-09-23-at-16.13.54.jpeg
END:VEVENT
BEGIN:VEVENT
DTSTART;TZID=Europe/London:20250925T200000
DTEND;TZID=Europe/London:20250925T220000
DTSTAMP:20260425T131742
CREATED:20250709T141046Z
LAST-MODIFIED:20250925T144022Z
UID:117898-1758830400-1758837600@hujjat.org
SUMMARY:JUMME RAAT
DESCRIPTION:20:00 Salat\n20:30 Surah Yaseen – Ali Asaria\n20:40 Dua Kumayl – Hassan Manji\n21:05 Announcements – Muslim Rehmtulla\n21:10 Majlis – Shaykh Anwar Jaffer\n21:40 Ziyarat Waritha – Nisarhusain Jafferali\n21:50 Tabarruk
URL:https://hujjat.org/event/jumme-raat-69/
CATEGORIES:Thursday Night
ATTACH;FMTTYPE=image/jpeg:https://hujjat.org/wp-content/uploads/2025/07/WhatsApp-Image-2025-09-23-at-16.13.53.jpeg
END:VEVENT
END:VCALENDAR