BEGIN:VCALENDAR
VERSION:2.0
PRODID:-//The KSIMC of London - Hujjat, Stanmore - ECPv6.15.20//NONSGML v1.0//EN
CALSCALE:GREGORIAN
METHOD:PUBLISH
X-WR-CALNAME:The KSIMC of London - Hujjat, Stanmore
X-ORIGINAL-URL:https://hujjat.org
X-WR-CALDESC:Events for The KSIMC of London - Hujjat, Stanmore
REFRESH-INTERVAL;VALUE=DURATION:PT1H
X-Robots-Tag:noindex
X-PUBLISHED-TTL:PT1H
BEGIN:VTIMEZONE
TZID:Europe/London
BEGIN:DAYLIGHT
TZOFFSETFROM:+0000
TZOFFSETTO:+0100
TZNAME:BST
DTSTART:20240331T010000
END:DAYLIGHT
BEGIN:STANDARD
TZOFFSETFROM:+0100
TZOFFSETTO:+0000
TZNAME:GMT
DTSTART:20241027T010000
END:STANDARD
BEGIN:DAYLIGHT
TZOFFSETFROM:+0000
TZOFFSETTO:+0100
TZNAME:BST
DTSTART:20250330T010000
END:DAYLIGHT
BEGIN:STANDARD
TZOFFSETFROM:+0100
TZOFFSETTO:+0000
TZNAME:GMT
DTSTART:20251026T010000
END:STANDARD
BEGIN:DAYLIGHT
TZOFFSETFROM:+0000
TZOFFSETTO:+0100
TZNAME:BST
DTSTART:20260329T010000
END:DAYLIGHT
BEGIN:STANDARD
TZOFFSETFROM:+0100
TZOFFSETTO:+0000
TZNAME:GMT
DTSTART:20261025T010000
END:STANDARD
END:VTIMEZONE
BEGIN:VEVENT
DTSTART;TZID=Europe/London:20250313T194500
DTEND;TZID=Europe/London:20250313T214000
DTSTAMP:20260423T120521
CREATED:20250310T145342Z
LAST-MODIFIED:20250310T145342Z
UID:113668-1741895100-1741902000@hujjat.org
SUMMARY:Girls Annexe
DESCRIPTION:
URL:https://hujjat.org/event/girls-annexe-4/
CATEGORIES:Annexe
ATTACH;FMTTYPE=image/jpeg:https://hujjat.org/wp-content/uploads/2025/03/WhatsApp-Image-2025-03-10-at-15.31.37-3.jpeg
END:VEVENT
BEGIN:VEVENT
DTSTART;TZID=Europe/London:20250313T194500
DTEND;TZID=Europe/London:20250313T221500
DTSTAMP:20260423T120521
CREATED:20250207T135610Z
LAST-MODIFIED:20250313T135634Z
UID:110824-1741895100-1741904100@hujjat.org
SUMMARY:EVE 13 Mah-e-Ramadhan 1446AH
DESCRIPTION:19:45 Darsa\n20:15 Short Duas – Zayn Mavani\n20:20 Dua Iftetah – Abbasali Muraj\n20:40 Dua Kumayl – Hassan Mirzakhani\n21:05 Announcements – Abbas Gulamali\n21:10 Majlis / Lecture – Shaykh Safdar Razi\n21:40 Ziyarat Waritha – Mehdi Lilani\n21:45 Tabarruk\n22:00 Dua-e-Mujeer – Ladies only
URL:https://hujjat.org/event/eve-13-mah-e-ramadhan-1446ah/
CATEGORIES:Ramadhan
ATTACH;FMTTYPE=image/jpeg:https://hujjat.org/wp-content/uploads/2025/02/WhatsApp-Image-2025-01-30-at-10.34.46_2f487e62.jpg
END:VEVENT
BEGIN:VEVENT
DTSTART;TZID=Europe/London:20250313T200000
DTEND;TZID=Europe/London:20250313T210000
DTSTAMP:20260423T120521
CREATED:20250306T151641Z
LAST-MODIFIED:20250306T151641Z
UID:113177-1741896000-1741899600@hujjat.org
SUMMARY:Quran Classes
DESCRIPTION:
URL:https://hujjat.org/event/quran-classes-19/
CATEGORIES:Quran
ATTACH;FMTTYPE=image/jpeg:https://hujjat.org/wp-content/uploads/2025/03/WhatsApp-Image-2025-03-06-at-14.53.23.jpeg
END:VEVENT
BEGIN:VEVENT
DTSTART;TZID=Europe/London:20250314T120000
DTEND;TZID=Europe/London:20250314T130000
DTSTAMP:20260423T120521
CREATED:20250303T112125Z
LAST-MODIFIED:20250303T112125Z
UID:112673-1741953600-1741957200@hujjat.org
SUMMARY:Daily Zohrain Salaat with Fiqh Masa'Il
DESCRIPTION:
URL:https://hujjat.org/event/daily-zohrain-salaat-with-fiqh-masail-34/
CATEGORIES:Ramadhan
ATTACH;FMTTYPE=image/jpeg:https://hujjat.org/wp-content/uploads/2025/03/WhatsApp-Image-2025-03-03-at-11.07.16.jpeg
END:VEVENT
BEGIN:VEVENT
DTSTART;TZID=Europe/London:20250314T120000
DTEND;TZID=Europe/London:20250314T133000
DTSTAMP:20260423T120521
CREATED:20250207T143721Z
LAST-MODIFIED:20250225T125255Z
UID:111301-1741953600-1741959000@hujjat.org
SUMMARY:Jumma Khutba
DESCRIPTION:12:00 Dua Mujeer: Mohamed Khalil\n12:15 13th day Dua\n12:16 Jumma Khutba – Shaykh Safdar Razi\nDua Wahda: Shabbir Bhai Merali\nRamadhan Dua: Mohamed Habib Walji\nAsr Dua: Sajjad ali Gulamhussein\nZiyarat: Mumtaz Kassam
URL:https://hujjat.org/event/jumme-khutba-2/
CATEGORIES:Juma,Seniors
END:VEVENT
BEGIN:VEVENT
DTSTART;TZID=Europe/London:20250314T160000
DTEND;TZID=Europe/London:20250314T173000
DTSTAMP:20260423T120521
CREATED:20250214T112606Z
LAST-MODIFIED:20250214T112606Z
UID:111569-1741968000-1741973400@hujjat.org
SUMMARY:Children's Afternoon Programme
DESCRIPTION:
URL:https://hujjat.org/event/childrens-afternoon-programme-45/
CATEGORIES:Kids,Ramadhan
ATTACH;FMTTYPE=image/jpeg:https://hujjat.org/wp-content/uploads/2025/02/WhatsApp-Image-2025-02-14-at-09.22.21.jpeg
END:VEVENT
BEGIN:VEVENT
DTSTART;TZID=Europe/London:20250314T194500
DTEND;TZID=Europe/London:20250314T212000
DTSTAMP:20260423T120521
CREATED:20250310T145505Z
LAST-MODIFIED:20250310T145505Z
UID:113671-1741981500-1741987200@hujjat.org
SUMMARY:Girls Annexe
DESCRIPTION:
URL:https://hujjat.org/event/girls-annexe-5/
CATEGORIES:Annexe
ATTACH;FMTTYPE=image/jpeg:https://hujjat.org/wp-content/uploads/2025/03/WhatsApp-Image-2025-03-10-at-15.31.37-4.jpeg
END:VEVENT
BEGIN:VEVENT
DTSTART;TZID=Europe/London:20250314T194500
DTEND;TZID=Europe/London:20250314T220000
DTSTAMP:20260423T120521
CREATED:20250207T135728Z
LAST-MODIFIED:20250312T133615Z
UID:110825-1741981500-1741989600@hujjat.org
SUMMARY:EVE 14 Mah-e-Ramadhan 1446AH
DESCRIPTION:19:45 Darsa\n20:15 Short Duas – Ali Moosa\n20:20 Dua Iftetah – Abbas Nazerali\n20:40 Short Talk – Zahid Khimji – Sustainable Life\n20:45 Announcements – Ali Bandali\n20:50 Majlis / Lecture – Shaykh Safdar Razi\n21:20 Ziyarat\n21:25 Tabarruk
URL:https://hujjat.org/event/eve-14-mah-e-ramadhan-1446ah/
CATEGORIES:Ramadhan
ATTACH;FMTTYPE=image/jpeg:https://hujjat.org/wp-content/uploads/2025/02/WhatsApp-Image-2025-01-30-at-10.34.46_2f487e62.jpg
END:VEVENT
BEGIN:VEVENT
DTSTART;TZID=Europe/London:20250314T204000
DTEND;TZID=Europe/London:20250314T212000
DTSTAMP:20260423T120521
CREATED:20250225T144550Z
LAST-MODIFIED:20250306T152931Z
UID:112032-1741984800-1741987200@hujjat.org
SUMMARY:Ramadhan Girls Classes
DESCRIPTION:Please ensure the girls are on time so as to not to disrupt the classes.\nParallel to the main lecture – In the Rahma Room\n \nHujjat ladies committee has organised a special series of girls’ classes throughout Shahr Ramadhan\, running parallel to the main hall lectures: \n📅Every Friday to Sunday\n🧕For girls who are too old to attend annexe (11-14 years old and school years 7-10) \nThese sessions aim to increase the spirit of Ramadhan\, with a variety of inspiring speakers focused on fostering God-consciousness\, health awareness and eco-consciousness amongst others.🌙 \nTogether\, we’ll explore relatable topics to empower our young girls\, equipping them with the tools to face the unique challenges they encounter in today’s world. 🌍 \nRegistration is essential for attendance. Please register using the link below.\nhttps://hujjat.org/years-7-10-girls-ramadhan-class/
URL:https://hujjat.org/event/ramadhan-girls-classes-6/
LOCATION:Rehma Room\, Hujjat Stanmore\, Rehma Room\, 17 Wood Ln\, Stanmore\, HA7 4LQ
CATEGORIES:Ramadhan
ATTACH;FMTTYPE=image/jpeg:https://hujjat.org/wp-content/uploads/2025/02/WhatsApp-Image-2025-02-25-at-11.48.20-1.jpeg
END:VEVENT
BEGIN:VEVENT
DTSTART;TZID=Europe/London:20250314T223000
DTEND;TZID=Europe/London:20250314T223000
DTSTAMP:20260423T120521
CREATED:20250326T002608Z
LAST-MODIFIED:20250326T002608Z
UID:114804-1741991400-1741991400@hujjat.org
SUMMARY:DUAS UNDER THE STARS 2025
DESCRIPTION:AHY Baraza Corner brings you.. \n✨DUAS UNDER THE STARS 2025✨ \nJoin us as we journey through the powerful themes within Dua Iftitah\, reflecting on the wisdom of Imam Mahdi (AJFS). \nTogether\, we will explore how to nurture our readiness for his reappearance and deepen our connection with his mission. \nRefreshments and favours will be served iA! \n✨When: 14th March\, 10:30pm\n✨Where: Ladies ELC\n✨Who: Ladies 18+ \nBring along your favorite reflective journal and pen if you have one (if not\, we’ve got you covered!) \nRegister at hujj.at/AHY
URL:https://hujjat.org/event/duas-under-the-stars-2025/
CATEGORIES:Al Haadi Youth
ATTACH;FMTTYPE=image/jpeg:https://hujjat.org/wp-content/uploads/2025/03/WhatsApp-Image-2025-03-07-at-08.48.52.jpeg
END:VEVENT
BEGIN:VEVENT
DTSTART;TZID=Europe/London:20250315T120000
DTEND;TZID=Europe/London:20250315T130000
DTSTAMP:20260423T120521
CREATED:20250303T112234Z
LAST-MODIFIED:20250303T112234Z
UID:112675-1742040000-1742043600@hujjat.org
SUMMARY:Daily Zohrain Salaat with Fiqh Masa'Il
DESCRIPTION:
URL:https://hujjat.org/event/daily-zohrain-salaat-with-fiqh-masail-35/
CATEGORIES:Ramadhan
ATTACH;FMTTYPE=image/jpeg:https://hujjat.org/wp-content/uploads/2025/03/WhatsApp-Image-2025-03-03-at-11.07.16.jpeg
END:VEVENT
BEGIN:VEVENT
DTSTART;TZID=Europe/London:20250315T163000
DTEND;TZID=Europe/London:20250315T180000
DTSTAMP:20260423T120521
CREATED:20250306T084158Z
LAST-MODIFIED:20250311T201414Z
UID:113152-1742056200-1742061600@hujjat.org
SUMMARY:Quran Tafsir
DESCRIPTION:Join the The Quran Academy on a 2-part series on Surah Najm! \nThese 2 interactive Tafsir sessions during this holy month\, led by Shaykh Mohamed Zamin Alidina will explore the beautiful secrets from this Surah\, and will help us connect to the Holy Qur’an this month and the upcoming layaal al Qadr \nThese sessions will be discussion based\, Ladies and gents both welcome. \nPrice: only £10 for both sessions \nDates:\nFriday 7th March\, 10pm (After main Programme\, in the Gents Hall)\nSaturday 15th March\, 4:30pm – 6pm (1st Floor ELC\, before main programme / During Darsa) \nVenue: Hujjat Stanmore \nSignup link: hujj.at/tafsir101
URL:https://hujjat.org/event/quran-tafsir-2/
CATEGORIES:Quran
ATTACH;FMTTYPE=image/jpeg:https://hujjat.org/wp-content/uploads/2025/03/WhatsApp-Image-2025-03-04-at-12.48.23.jpeg
END:VEVENT
BEGIN:VEVENT
DTSTART;TZID=Europe/London:20250315T170000
DTEND;TZID=Europe/London:20250315T214500
DTSTAMP:20260423T120521
CREATED:20250207T135855Z
LAST-MODIFIED:20250315T133531Z
UID:110826-1742058000-1742075100@hujjat.org
SUMMARY:EVE 15 Mah-e-Ramadhan 1446AH - WILAADAT EVE OF IMAM HASSAN (A)
DESCRIPTION:17:30 Darsa\n18:16 Wudhu Break\n18:21 Salaat ul Maghribayn/Duas – Ali Yaseen Ismail\n18:45 Iftaar\n19:35 Hadith Kisa – Ammar Hussein Lalji\n19:50 Dua Iftetah – Ali Rahemani\n20:10 Speech – President – Murtaza Gulamhusein\n20:17 Majlis / Lecture – Shaykh Safdar Razi\n20:47 Qasida 1 – Rehman Mohamed\n20:54 Announcements – Muslim Rehemtullah\n20:59 Qasida 2 – Murtaza Akberali\n21:07 Dua Mujeer – Qasim Kareemi\n21:37 Ziyarat – Hassanain Chandoo
URL:https://hujjat.org/event/eve-15-mah-e-ramadhan-1446ah-wilaadat-eve-of-imam-hassan-a/
CATEGORIES:Ramadhan
ATTACH;FMTTYPE=image/jpeg:https://hujjat.org/wp-content/uploads/2025/02/WhatsApp-Image-2025-01-30-at-10.34.46_2f487e62.jpg
END:VEVENT
BEGIN:VEVENT
DTSTART;TZID=Europe/London:20250315T173000
DTEND;TZID=Europe/London:20250315T204500
DTSTAMP:20260423T120521
CREATED:20250314T084610Z
LAST-MODIFIED:20250314T084610Z
UID:114248-1742059800-1742071500@hujjat.org
SUMMARY:Hujjat Boys Annexe
DESCRIPTION:
URL:https://hujjat.org/event/hujjat-boys-annexe-81/
CATEGORIES:Annexe
ATTACH;FMTTYPE=image/jpeg:https://hujjat.org/wp-content/uploads/2025/03/WhatsApp-Image-2025-03-13-at-18.56.37.jpeg
END:VEVENT
BEGIN:VEVENT
DTSTART;TZID=Europe/London:20250315T173000
DTEND;TZID=Europe/London:20250315T204700
DTSTAMP:20260423T120521
CREATED:20250314T082128Z
LAST-MODIFIED:20250314T082128Z
UID:114236-1742059800-1742071620@hujjat.org
SUMMARY:Girls Annexe
DESCRIPTION:
URL:https://hujjat.org/event/girls-annexe-6/
CATEGORIES:Annexe
ATTACH;FMTTYPE=image/jpeg:https://hujjat.org/wp-content/uploads/2025/03/WhatsApp-Image-2025-03-13-at-18.56.32.jpeg
END:VEVENT
BEGIN:VEVENT
DTSTART;TZID=Europe/London:20250315T193000
DTEND;TZID=Europe/London:20250315T235900
DTSTAMP:20260423T120521
CREATED:20250307T083200Z
LAST-MODIFIED:20250319T110335Z
UID:113250-1742067000-1742083140@hujjat.org
SUMMARY:Juice Sale
DESCRIPTION:
URL:https://hujjat.org/event/juice-sale/
CATEGORIES:Ladies committee
ATTACH;FMTTYPE=image/jpeg:https://hujjat.org/wp-content/uploads/2025/03/WhatsApp-Image-2025-03-06-at-16.53.16.jpeg
END:VEVENT
BEGIN:VEVENT
DTSTART;TZID=Europe/London:20250315T201000
DTEND;TZID=Europe/London:20250315T210000
DTSTAMP:20260423T120521
CREATED:20250225T144711Z
LAST-MODIFIED:20250306T210516Z
UID:112034-1742069400-1742072400@hujjat.org
SUMMARY:Ramadhan Girls Classes
DESCRIPTION:Please ensure the girls are on time so as to not to disrupt the classes.\nParallel to the main lecture – In the Rahma Room\n \nHujjat ladies committee has organised a special series of girls’ classes throughout Shahr Ramadhan\, running parallel to the main hall lectures: \n📅Every Friday to Sunday\n🧕For girls who are too old to attend annexe (11-14 years old and school years 7-10) \nThese sessions aim to increase the spirit of Ramadhan\, with a variety of inspiring speakers focused on fostering God-consciousness\, health awareness and eco-consciousness amongst others.🌙 \nTogether\, we’ll explore relatable topics to empower our young girls\, equipping them with the tools to face the unique challenges they encounter in today’s world. 🌍 \nRegistration is essential for attendance. Please register using the link below.\nhttps://hujjat.org/years-7-10-girls-ramadhan-class/
URL:https://hujjat.org/event/ramadhan-girls-classes-7/
LOCATION:Rehma Room\, Hujjat Stanmore\, Rehma Room\, 17 Wood Ln\, Stanmore\, HA7 4LQ
CATEGORIES:Ramadhan
ATTACH;FMTTYPE=image/jpeg:https://hujjat.org/wp-content/uploads/2025/02/WhatsApp-Image-2025-02-25-at-11.48.20-1.jpeg
END:VEVENT
BEGIN:VEVENT
DTSTART;TZID=Europe/London:20250315T210000
DTEND;TZID=Europe/London:20250315T210000
DTSTAMP:20260423T120521
CREATED:20250326T002754Z
LAST-MODIFIED:20250326T003627Z
UID:114806-1742072400-1742072400@hujjat.org
SUMMARY:AHY Boys Football Tournament
DESCRIPTION:⚽ AHY Boys Football Tournament⚽ \nHave you got what it takes to win? \nJoin Al Haadi Youth and take part in our 5 aside football tournament. Come along to play and enjoy some great treats! \nPlease note everyone will be allocated to teams at random. \n🗓️ Saturday 15th March\n🕐 After main programme\n👦🏽Boys in years 9 to 11\n📍Hujjat \nTo register\, please fill in the form below:\nHujj.at/AHY \nLook forward to seeing you there!!!!
URL:https://hujjat.org/event/ahy-boys-football-tournament/
CATEGORIES:Al Haadi Youth
ATTACH;FMTTYPE=image/jpeg:https://hujjat.org/wp-content/uploads/2025/03/WhatsApp-Image-2025-03-10-at-21.21.11.jpeg
END:VEVENT
BEGIN:VEVENT
DTSTART;TZID=Europe/London:20250316T120000
DTEND;TZID=Europe/London:20250316T130000
DTSTAMP:20260423T120521
CREATED:20250303T112634Z
LAST-MODIFIED:20250303T112634Z
UID:112681-1742126400-1742130000@hujjat.org
SUMMARY:Daily Zohrain Salaat with Fiqh Masa'Il
DESCRIPTION:
URL:https://hujjat.org/event/daily-zohrain-salaat-with-fiqh-masail-38/
CATEGORIES:Ramadhan
ATTACH;FMTTYPE=image/jpeg:https://hujjat.org/wp-content/uploads/2025/03/WhatsApp-Image-2025-03-03-at-11.07.16.jpeg
END:VEVENT
BEGIN:VEVENT
DTSTART;TZID=Europe/London:20250316T170000
DTEND;TZID=Europe/London:20250316T204500
DTSTAMP:20260423T120521
CREATED:20250207T140021Z
LAST-MODIFIED:20250321T082839Z
UID:110827-1742144400-1742157900@hujjat.org
SUMMARY:EVE 16 Mah-e-Ramadhan 1446AH
DESCRIPTION:17:30 Darsa\n18:18 Wudhu Break\n18:23 Salaat ul Maghribayn/Duas – Alireza Datoo\n18:45 Iftaar – Karahi Chicken\n19:35 Dua Iftetah – Abbasali Rajabali\n19:55 Short Talk – Akber Datoo – AI\n20:00 Announcements – Muslim Remtullah\n20:05 Majlis / Lecture – Shaykh Usama Al-Attar\n20:35 Ziyarat
URL:https://hujjat.org/event/eve-16-mah-e-ramadhan-1446ah/
CATEGORIES:Ramadhan
ATTACH;FMTTYPE=image/jpeg:https://hujjat.org/wp-content/uploads/2025/02/WhatsApp-Image-2025-03-18-at-13.23.30_67c449fa.jpg
END:VEVENT
BEGIN:VEVENT
DTSTART;TZID=Europe/London:20250316T170000
DTEND;TZID=Europe/London:20250316T210000
DTSTAMP:20260423T120521
CREATED:20250307T082837Z
LAST-MODIFIED:20250311T201244Z
UID:113243-1742144400-1742158800@hujjat.org
SUMMARY:Bake Sale
DESCRIPTION:Join us for a special Ramadhan Bake Sale! Indulge in delicious cupcakes \,treats and desserts with all proceeds going towards Ramadhan Relief and Hujjat\nCentre – a cause close to our hearts. Your support will help bring comfort and aid to those in need this blessed month. Sweet treats for a sweet cause!\n🧁🍧🍰🍪
URL:https://hujjat.org/event/bake-sale-2/
CATEGORIES:Ladies committee
ATTACH;FMTTYPE=image/jpeg:https://hujjat.org/wp-content/uploads/2025/03/WhatsApp-Image-2025-03-06-at-15.10.30-1.jpeg
END:VEVENT
BEGIN:VEVENT
DTSTART;TZID=Europe/London:20250316T173000
DTEND;TZID=Europe/London:20250316T203500
DTSTAMP:20260423T120521
CREATED:20250314T082254Z
LAST-MODIFIED:20250314T082254Z
UID:114239-1742146200-1742157300@hujjat.org
SUMMARY:Girls Annexe
DESCRIPTION:
URL:https://hujjat.org/event/girls-annexe-7/
CATEGORIES:Annexe
ATTACH;FMTTYPE=image/jpeg:https://hujjat.org/wp-content/uploads/2025/03/WhatsApp-Image-2025-03-13-at-18.56.39.jpeg
END:VEVENT
BEGIN:VEVENT
DTSTART;TZID=Europe/London:20250316T173000
DTEND;TZID=Europe/London:20250316T203500
DTSTAMP:20260423T120521
CREATED:20250314T084734Z
LAST-MODIFIED:20250314T084734Z
UID:114251-1742146200-1742157300@hujjat.org
SUMMARY:Hujjat Boys Annexe
DESCRIPTION:
URL:https://hujjat.org/event/hujjat-boys-annexe-82/
CATEGORIES:Annexe
ATTACH;FMTTYPE=image/jpeg:https://hujjat.org/wp-content/uploads/2025/03/WhatsApp-Image-2025-03-13-at-18.56.37-1.jpeg
END:VEVENT
BEGIN:VEVENT
DTSTART;TZID=Europe/London:20250316T195500
DTEND;TZID=Europe/London:20250316T203500
DTSTAMP:20260423T120521
CREATED:20250225T144838Z
LAST-MODIFIED:20250304T002252Z
UID:112036-1742154900-1742157300@hujjat.org
SUMMARY:Ramadhan Girls Classes
DESCRIPTION:Please ensure the girls are on time so as to not to disrupt the classes.\nParallel to the main lecture – In the Rahma Room\n \nHujjat ladies committee has organised a special series of girls’ classes throughout Shahr Ramadhan\, running parallel to the main hall lectures: \n📅Every Friday to Sunday\n🧕For girls who are too old to attend annexe (11-14 years old and school years 7-10) \nThese sessions aim to increase the spirit of Ramadhan\, with a variety of inspiring speakers focused on fostering God-consciousness\, health awareness and eco-consciousness amongst others.🌙 \nTogether\, we’ll explore relatable topics to empower our young girls\, equipping them with the tools to face the unique challenges they encounter in today’s world. 🌍 \nRegistration is essential for attendance. Please register using the link below.\nhttps://hujjat.org/years-7-10-girls-ramadhan-class/
URL:https://hujjat.org/event/ramadhan-girls-classes-8/
LOCATION:Rehma Room\, Hujjat Stanmore\, Rehma Room\, 17 Wood Ln\, Stanmore\, HA7 4LQ
CATEGORIES:Ramadhan
ATTACH;FMTTYPE=image/jpeg:https://hujjat.org/wp-content/uploads/2025/02/WhatsApp-Image-2025-02-25-at-11.48.20-1.jpeg
END:VEVENT
BEGIN:VEVENT
DTSTART;TZID=Europe/London:20250316T210000
DTEND;TZID=Europe/London:20250316T233000
DTSTAMP:20260423T120521
CREATED:20250315T172355Z
LAST-MODIFIED:20250318T150847Z
UID:114321-1742158800-1742167800@hujjat.org
SUMMARY:AHY BBQ - Mahe Ramadhan 2025
DESCRIPTION:🔥AHY MAHE RAMADHAN BBQ🔥\nJoin us for our annual ‘chill and grill’ AHY BBQ on Sunday 16th March! \nA fun evening of games with friends and family at Hujjat catered by The Hubb \nTickets have been subsidised due to the generosity of donors. Please recite a Surah Fatiha for all Marhumeen.\nIf you would also like to donate to this cause then please reach out to the team. \nLimited tickets are available! \n  \n\n\n	AHY BBQ 2025\n	£12.00\nSelect options
URL:https://hujjat.org/event/ahy-bbq-mahe-ramadhan-2025/
LOCATION:Husaini Islamic Centre (Hujjat Imambargah)\, Stanmore\, Wood Lane\, Stanmore\, HA7 4LQ\, United Kingdom
CATEGORIES:Al Haadi Youth
ATTACH;FMTTYPE=image/jpeg:https://hujjat.org/wp-content/uploads/2025/03/WhatsApp-Image-2025-03-12-at-15.21.42.jpeg
END:VEVENT
BEGIN:VEVENT
DTSTART;TZID=Europe/London:20250317T160000
DTEND;TZID=Europe/London:20250317T173000
DTSTAMP:20260423T120521
CREATED:20250214T112710Z
LAST-MODIFIED:20250214T112710Z
UID:111571-1742227200-1742232600@hujjat.org
SUMMARY:Children's Afternoon Programme
DESCRIPTION:
URL:https://hujjat.org/event/childrens-afternoon-programme-46/
CATEGORIES:Kids,Ramadhan
ATTACH;FMTTYPE=image/jpeg:https://hujjat.org/wp-content/uploads/2025/02/WhatsApp-Image-2025-02-14-at-09.22.21.jpeg
END:VEVENT
BEGIN:VEVENT
DTSTART;TZID=Europe/London:20250317T194500
DTEND;TZID=Europe/London:20250317T212000
DTSTAMP:20260423T120521
CREATED:20250314T082419Z
LAST-MODIFIED:20250314T082419Z
UID:114242-1742240700-1742246400@hujjat.org
SUMMARY:Girls Annexe
DESCRIPTION:
URL:https://hujjat.org/event/girls-annexe-8/
CATEGORIES:Annexe
ATTACH;FMTTYPE=image/jpeg:https://hujjat.org/wp-content/uploads/2025/03/WhatsApp-Image-2025-03-13-at-18.56.39-1.jpeg
END:VEVENT
BEGIN:VEVENT
DTSTART;TZID=Europe/London:20250317T194500
DTEND;TZID=Europe/London:20250317T220000
DTSTAMP:20260423T120521
CREATED:20250207T140453Z
LAST-MODIFIED:20250321T082750Z
UID:110828-1742240700-1742248800@hujjat.org
SUMMARY:EVE 17 Mah-e-Ramadhan 1446AH
DESCRIPTION:19:45 Darsa\n20:15 Short Duas – Abbas Mamdani\n20:20 Dua Iftetah – Muntazir Ramji\n20:40 Speech – Noor Relief Fund\n20:45 Announcements – Muhammadhussein Jagani\n20:50 Majlis / Lecture – Shaykh Usama Al-Attar\n21:20 Ziyarat\n21:25 Tabarruk
URL:https://hujjat.org/event/eve-17-mah-e-ramadhan-1446ah/
CATEGORIES:Ramadhan
ATTACH;FMTTYPE=image/jpeg:https://hujjat.org/wp-content/uploads/2025/02/WhatsApp-Image-2025-03-18-at-13.23.30_67c449fa.jpg
END:VEVENT
BEGIN:VEVENT
DTSTART;TZID=Europe/London:20250318T160000
DTEND;TZID=Europe/London:20250318T173000
DTSTAMP:20260423T120521
CREATED:20250214T112812Z
LAST-MODIFIED:20250214T112812Z
UID:111573-1742313600-1742319000@hujjat.org
SUMMARY:Children's Afternoon Programme
DESCRIPTION:
URL:https://hujjat.org/event/childrens-afternoon-programme-47/
CATEGORIES:Kids,Ramadhan
ATTACH;FMTTYPE=image/jpeg:https://hujjat.org/wp-content/uploads/2025/02/WhatsApp-Image-2025-02-14-at-09.22.21.jpeg
END:VEVENT
BEGIN:VEVENT
DTSTART;TZID=Europe/London:20250318T193000
DTEND;TZID=Europe/London:20250318T214500
DTSTAMP:20260423T120521
CREATED:20250207T140154Z
LAST-MODIFIED:20250321T082717Z
UID:110829-1742326200-1742334300@hujjat.org
SUMMARY:EVE 18 Mah-e-Ramadhan 1446AH
DESCRIPTION:19:45 Darsa\n20:15 Short Duas – Hassanain Chandoo\n20:20 Dua Iftetah – Murtaza Gulamhusein\n20:40 Dua Tawassul – Hassan Moosa\n20:55 Speech – Inspirational minds\n21:00 Announcements – Muhammadhussein Jagani\n21:05 Majlis / Lecture – Shaykh Usama Al-Attar\n21:35 Ziyarat\n21:40 Tabarruk
URL:https://hujjat.org/event/eve-18-mah-e-ramadhan-1446ah/
CATEGORIES:Ramadhan
ATTACH;FMTTYPE=image/jpeg:https://hujjat.org/wp-content/uploads/2025/02/WhatsApp-Image-2025-03-18-at-13.23.30_67c449fa.jpg
END:VEVENT
END:VCALENDAR