BEGIN:VCALENDAR
VERSION:2.0
PRODID:-//The KSIMC of London - Hujjat, Stanmore - ECPv6.15.20//NONSGML v1.0//EN
CALSCALE:GREGORIAN
METHOD:PUBLISH
X-WR-CALNAME:The KSIMC of London - Hujjat, Stanmore
X-ORIGINAL-URL:https://hujjat.org
X-WR-CALDESC:Events for The KSIMC of London - Hujjat, Stanmore
REFRESH-INTERVAL;VALUE=DURATION:PT1H
X-Robots-Tag:noindex
X-PUBLISHED-TTL:PT1H
BEGIN:VTIMEZONE
TZID:Europe/London
BEGIN:DAYLIGHT
TZOFFSETFROM:+0000
TZOFFSETTO:+0100
TZNAME:BST
DTSTART:20250330T010000
END:DAYLIGHT
BEGIN:STANDARD
TZOFFSETFROM:+0100
TZOFFSETTO:+0000
TZNAME:GMT
DTSTART:20251026T010000
END:STANDARD
BEGIN:DAYLIGHT
TZOFFSETFROM:+0000
TZOFFSETTO:+0100
TZNAME:BST
DTSTART:20260329T010000
END:DAYLIGHT
BEGIN:STANDARD
TZOFFSETFROM:+0100
TZOFFSETTO:+0000
TZNAME:GMT
DTSTART:20261025T010000
END:STANDARD
BEGIN:DAYLIGHT
TZOFFSETFROM:+0000
TZOFFSETTO:+0100
TZNAME:BST
DTSTART:20270328T010000
END:DAYLIGHT
BEGIN:STANDARD
TZOFFSETFROM:+0100
TZOFFSETTO:+0000
TZNAME:GMT
DTSTART:20271031T010000
END:STANDARD
END:VTIMEZONE
BEGIN:VEVENT
DTSTART;TZID=Europe/London:20260203T190000
DTEND;TZID=Europe/London:20260203T233000
DTSTAMP:20260424T112856
CREATED:20251214T211016Z
LAST-MODIFIED:20260203T123007Z
UID:123625-1770145200-1770161400@hujjat.org
SUMMARY:Shab e Baraat
DESCRIPTION:19:00 Jamaat Salaat\n19:30 Holy Quran recitation – Muhammad Afzal Merali\n19:40 Dua Tawassul – Haider Virji\n19:50 Hadith e Kisa – Jabir Pirmohamed\n20:00 Qasida – Hassan Kassam\n20:07 Announcements – Abbas Gulamali\n20:12 Speech\n20:17 Amaal Prep – Shaykh Anwar Jaffer\n20:25 Dua Kumayl – Mohammed Rhemtulla\n20:50 Surah Yaseen – Qassim Molu\n21:05 Amaal – Shaykh Anwar Jaffer\n21:45 Ziyarat Makhsus – Mohamed Habib Walji\n21:55 Tabarruk Break\n22:15 Munajaat Shabaniyya – Hassan Meghjee\n22:35 Ziyarat Aale Yaseen – Mustafa Merali\n22:45 End
URL:https://hujjat.org/event/shab-e-baraat-4/
CATEGORIES:Wiladat
ATTACH;FMTTYPE=image/jpeg:https://hujjat.org/wp-content/uploads/2025/12/WhatsApp-Image-2026-02-03-at-12.25.28.jpeg
END:VEVENT
END:VCALENDAR