BEGIN:VCALENDAR
VERSION:2.0
PRODID:-//The KSIMC of London - Hujjat, Stanmore - ECPv6.15.20//NONSGML v1.0//EN
CALSCALE:GREGORIAN
METHOD:PUBLISH
X-WR-CALNAME:The KSIMC of London - Hujjat, Stanmore
X-ORIGINAL-URL:https://hujjat.org
X-WR-CALDESC:Events for The KSIMC of London - Hujjat, Stanmore
REFRESH-INTERVAL;VALUE=DURATION:PT1H
X-Robots-Tag:noindex
X-PUBLISHED-TTL:PT1H
BEGIN:VTIMEZONE
TZID:Europe/London
BEGIN:DAYLIGHT
TZOFFSETFROM:+0000
TZOFFSETTO:+0100
TZNAME:BST
DTSTART:20250330T010000
END:DAYLIGHT
BEGIN:STANDARD
TZOFFSETFROM:+0100
TZOFFSETTO:+0000
TZNAME:GMT
DTSTART:20251026T010000
END:STANDARD
BEGIN:DAYLIGHT
TZOFFSETFROM:+0000
TZOFFSETTO:+0100
TZNAME:BST
DTSTART:20260329T010000
END:DAYLIGHT
BEGIN:STANDARD
TZOFFSETFROM:+0100
TZOFFSETTO:+0000
TZNAME:GMT
DTSTART:20261025T010000
END:STANDARD
BEGIN:DAYLIGHT
TZOFFSETFROM:+0000
TZOFFSETTO:+0100
TZNAME:BST
DTSTART:20270328T010000
END:DAYLIGHT
BEGIN:STANDARD
TZOFFSETFROM:+0100
TZOFFSETTO:+0000
TZNAME:GMT
DTSTART:20271031T010000
END:STANDARD
END:VTIMEZONE
BEGIN:VEVENT
DTSTART;TZID=Europe/London:20260421T100000
DTEND;TZID=Europe/London:20260421T120000
DTSTAMP:20260423T121038
CREATED:20260414T113037Z
LAST-MODIFIED:20260414T113037Z
UID:127868-1776765600-1776772800@hujjat.org
SUMMARY:Ziyara 'Ashura
DESCRIPTION:
URL:https://hujjat.org/event/ziyara-ashura-18/
CATEGORIES:Ladies committee
ATTACH;FMTTYPE=image/jpeg:https://hujjat.org/wp-content/uploads/2026/04/WhatsApp-Image-2026-04-14-at-11.53.53.jpeg
END:VEVENT
BEGIN:VEVENT
DTSTART;TZID=Europe/London:20260421T100000
DTEND;TZID=Europe/London:20260421T120000
DTSTAMP:20260423T121038
CREATED:20260421T075139Z
LAST-MODIFIED:20260421T075139Z
UID:128013-1776765600-1776772800@hujjat.org
SUMMARY:Ziyara 'Ashura
DESCRIPTION:
URL:https://hujjat.org/event/ziyara-ashura-19/
CATEGORIES:Ladies committee
ATTACH;FMTTYPE=image/jpeg:https://hujjat.org/wp-content/uploads/2026/04/WhatsApp-Image-2026-04-21-at-09.29.02.jpeg
END:VEVENT
END:VCALENDAR